BEGIN:VCALENDAR
VERSION:2.0
PRODID:-//DP Pro Event Calendar//3.0.5//EN
BEGIN:VEVENT
UID:03e1b2f8-0204-4346-8073-1140a13c0e5c
DTSTART;TZID=America/Chicago:20190610T173000
DTEND;TZID=America/Chicago:20190610T200000
DTSTAMP:20191115T122733Z
SUMMARY:CB2 - Holiday Open House
DESCRIPTION:Positions: Seasonal Sales Associates\r \n \r \n  Seasonal Stock Associates \r \n \r \n &nbsp\;\r \n \r \n Notes before attending a hiring event or job interview  - Always research the company at their website  - Apply at the company website when possible AND attend the hiring event  - Bring photo ids\, multiple resume copies\, list of references\, a pen and notepad  - Dress business casual unless specified\r \n Is your resume not working? Schedule a free consultation to meet with one of our professional resume writers at A Better Resume Service\, Inc. Locations in: Chicago Loop\, Chicago Lakeview\, Oak Brook\, Naperville\, Schaumburg\, and Tinley Park. Click here: more information\r \n \r \n Need some tips on succeeding at the Job fair? Check out 10 tips right here!
LOCATION:CB2\, 800 W North Ave\, Chicago\, IL 60642
URL:
END:VEVENT
END:VCALENDAR