BEGIN:VCALENDAR
VERSION:2.0
PRODID:-//DP Pro Event Calendar//3.0.5//EN
BEGIN:VEVENT
UID:cada6e06-c119-4f9e-93a6-a403bd8916f7
DTSTART;TZID=America/Chicago:20190130T120000
DTEND;TZID=America/Chicago:20190130T120000
DTSTAMP:20190124T154305Z
SUMMARY:Northwestern Winter 2019 Career Fair
DESCRIPTION:\r \n \r \n Notes before attending a hiring event or job interview\r \n - Always research the company at their website\r \n - Apply at the company website when possible AND attend the hiring event\r \n - Bring photo ids\, multiple resume copies\, list of references\, a pen and notepad\r \n - Dress business casual unless specified\r \n \r \n Is your resume not working? Schedule a free consultation to meet with one of our professional resume writers at A Better Resume Service\, Inc. Multiple Chicagoland locations. Click here: more information\r \n \r \n 
LOCATION: 1999 Campus Drive Evanston\, IL 60208
URL:
END:VEVENT
END:VCALENDAR