BEGIN:VCALENDAR
VERSION:2.0
PRODID:-//DP Pro Event Calendar//3.0.5//EN
BEGIN:VEVENT
UID:266f1f88-949e-408f-9f75-59e956ec5b60
DTSTART;TZID=America/Chicago:20190125T093000
DTEND;TZID=America/Chicago:20190125T093000
DTSTAMP:20190124T153335Z
SUMMARY:DePaul University School of Hospitality Leadership Career Fair
DESCRIPTION:\r \n \r \n The DePaul University School of Hospitality Leadership Career Fair 2019 gives students an opportunity to meet and network with recruiters from the hospitality industry.  Last year the Career Fair had over 100 companies and 450 students registered. The year's Career Fair is expecting to host a variety of hospitality and tourism segments including lodging\, food &amp\; beverage\, private clubs\, caterers\, convention &amp\; visitors organizations\, and meetings &amp\; events companies.\r \n \r \n Notes before attending a hiring event or job interview\r \n - Always research the company at their website\r \n - Apply at the company website when possible AND attend the hiring event\r \n - Bring photo ids\, multiple resume copies\, list of references\, a pen and notepad\r \n - Dress business casual unless specified\r \n Click here for resume writing services\r \n \r \n 
LOCATION:2250 North Sheffield Avenue Chicago\, IL 60614
URL:
END:VEVENT
END:VCALENDAR